BEGIN:VCALENDAR
VERSION:2.0
PRODID:-//Arbeitskreis Börse Studenten der Uni Mainz e.V. - ECPv5.9.2//NONSGML v1.0//EN
CALSCALE:GREGORIAN
METHOD:PUBLISH
X-WR-CALNAME:Arbeitskreis Börse Studenten der Uni Mainz e.V.
X-ORIGINAL-URL:https://akb-mainz.de
X-WR-CALDESC:Events for Arbeitskreis Börse Studenten der Uni Mainz e.V.
BEGIN:VTIMEZONE
TZID:Europe/Berlin
BEGIN:DAYLIGHT
TZOFFSETFROM:+0100
TZOFFSETTO:+0200
TZNAME:CEST
DTSTART:20230326T010000
END:DAYLIGHT
BEGIN:STANDARD
TZOFFSETFROM:+0200
TZOFFSETTO:+0100
TZNAME:CET
DTSTART:20231029T010000
END:STANDARD
END:VTIMEZONE
BEGIN:VEVENT
DTSTART;TZID=Europe/Berlin:20230201T180000
DTEND;TZID=Europe/Berlin:20230201T210000
DTSTAMP:20260422T202847
CREATED:20230115T215920Z
LAST-MODIFIED:20230115T215920Z
UID:2497-1675274400-1675285200@akb-mainz.de
SUMMARY:Workshop mit zeb
DESCRIPTION:Am 01.02.2023 um 18 Uhr werden wir gemeinsam mit Berater e.V. und zeb einen Workshop rund um das Thema ESG in Frankfurt am Main veranstalten. Danach wird es die Möglichkeit geben\, sich mit zeb und Berater e.V. auszutauschen. Mehr Infos und den Link zur Anmeldung erhalten alle Mitglieder in Kürze per E-Mail! \nMerkt euch den Termin gerne bereits vor.
URL:https://akb-mainz.de/event/workshop-mit-zeb/
LOCATION:Frankfurt
CATEGORIES:Workshop
END:VEVENT
BEGIN:VEVENT
DTSTART;TZID=Europe/Berlin:20230210T183000
DTEND;TZID=Europe/Berlin:20230210T220000
DTSTAMP:20260422T202847
CREATED:20230201T065618Z
LAST-MODIFIED:20230201T065655Z
UID:2503-1676053800-1676066400@akb-mainz.de
SUMMARY:Stammtisch
DESCRIPTION:Am 10. Februar 2023 findet der AKB-Stammtisch um 18:30 Uhr im RW3 (neues Rewi Universität Mainz) statt. \nEin entspannter Abend ist geplant\, mit einem lockeren Austausch über Kapitalmarktthemen. \nEs ist keine Voranmeldung nötig\, kommt daher gerne einfach vorbei. \nWir freuen uns auf euch!
URL:https://akb-mainz.de/event/stammtisch-3/
LOCATION:Universität Mainz\, RW 3 (ReWi\, EG.)
END:VEVENT
END:VCALENDAR