BEGIN:VCALENDAR
VERSION:2.0
PRODID:-//Arbeitskreis Börse Studenten der Uni Mainz e.V. - ECPv5.9.2//NONSGML v1.0//EN
CALSCALE:GREGORIAN
METHOD:PUBLISH
X-WR-CALNAME:Arbeitskreis Börse Studenten der Uni Mainz e.V.
X-ORIGINAL-URL:https://akb-mainz.de
X-WR-CALDESC:Events for Arbeitskreis Börse Studenten der Uni Mainz e.V.
BEGIN:VTIMEZONE
TZID:Europe/Berlin
BEGIN:DAYLIGHT
TZOFFSETFROM:+0100
TZOFFSETTO:+0200
TZNAME:CEST
DTSTART:20220327T010000
END:DAYLIGHT
BEGIN:STANDARD
TZOFFSETFROM:+0200
TZOFFSETTO:+0100
TZNAME:CET
DTSTART:20221030T010000
END:STANDARD
END:VTIMEZONE
BEGIN:VEVENT
DTSTART;TZID=Europe/Berlin:20221116T170000
DTEND;TZID=Europe/Berlin:20221116T190000
DTSTAMP:20260423T003626
CREATED:20221002T144625Z
LAST-MODIFIED:20221002T144645Z
UID:2390-1668618000-1668625200@akb-mainz.de
SUMMARY:Krisen\, Klima\, Krypto  – Aktuelle Themen in der Beratung bei KPMG
DESCRIPTION:Unter den Stichworten Krisen\, Klima und Krypto berichten drei KPMG-Mitarbeitende aus ihrem Alltag in der Beratung von Banken und Börsen. Die Referierenden stellen Euch in kurzen Vorträgen die Themenbereiche ihrer täglichen Arbeit vor und geben Einblicke in die Herausforderungen und Lösungsansätze\, welche den Finanzsektor derzeit beschäftigen. Zudem erhaltet Ihr einen Überblick über die vielfältigen Einstiegsmöglichkeiten\, Beratungsfelder und Karrierewege bei KPMG. Seid dabei und erfahrt mehr über die spannenden Themen\, die Euch bei KPMG erwarten\, und knüpft wertvolle Kontakte für Euer Netzwerk. \nHard Facts: \nDatum: 16.11.2022 17-19 Uhr \nOrt: The SQUAIRE\, am Flughafen\, Frankfurt am Main \nAnmeldung: Teilnahme nur nach verbindlicher Anmeldung (Anmeldeschluss: 30.10.22) und Zusage (Anfang November; AKB-Mitglieder werden bei hoher Nachfrage bevorzugt) aufgrund des begrenzten Kontingents. Zur Anmeldung \nDrinks & Snacks: KPMG wird auch Drinks & Snacks bereitstellen.
URL:https://akb-mainz.de/event/krisen-klima-krypto-aktuelle-themen-in-der-beratung-bei-kpmg/
LOCATION:The SQUIARE Frankfurt
CATEGORIES:Praxisvortrag
END:VEVENT
BEGIN:VEVENT
DTSTART;TZID=Europe/Berlin:20221118T183000
DTEND;TZID=Europe/Berlin:20221118T210000
DTSTAMP:20260423T003626
CREATED:20221101T120355Z
LAST-MODIFIED:20221101T120406Z
UID:2432-1668796200-1668805200@akb-mainz.de
SUMMARY:Sektempfang
DESCRIPTION:Am Freitag\, den 18. November 2022 veranstaltet der AKB einen Sektempfang. Ab 18:30 Uhr sind alle Interessierten eingeladen\, im Hörsaal 10 der Universität Mainz vorbeizuschauen. Wir freuen uns auf einen entspannten Austausch mit Euch über Börsen – und Kapitalmarktthemen.
URL:https://akb-mainz.de/event/sektempfang/
LOCATION:HS 10\, Forum
END:VEVENT
BEGIN:VEVENT
DTSTART;TZID=Europe/Berlin:20221126T173000
DTEND;TZID=Europe/Berlin:20221126T220000
DTSTAMP:20260423T003626
CREATED:20221122T070839Z
LAST-MODIFIED:20221122T070839Z
UID:2443-1669483800-1669500000@akb-mainz.de
SUMMARY:Stammtisch
DESCRIPTION:Am 26. November 2022 findet der AKB-Stammtisch um 17:30 Uhr im Baron (Johann-Joachim-Becherweg 3\, 55128 Mainz) statt. \nEin entspannter Abend ist geplant\, mit einem lockeren Austausch über Kapitalmarktthemen. \nEs ist keine Voranmeldung nötig\, kommt daher gerne einfach vorbei. \nWir freuen uns auf euch!
URL:https://akb-mainz.de/event/stammtisch/
END:VEVENT
END:VCALENDAR