BEGIN:VCALENDAR
VERSION:2.0
PRODID:-//Arbeitskreis Börse Studenten der Uni Mainz e.V. - ECPv5.9.2//NONSGML v1.0//EN
CALSCALE:GREGORIAN
METHOD:PUBLISH
X-WR-CALNAME:Arbeitskreis Börse Studenten der Uni Mainz e.V.
X-ORIGINAL-URL:https://akb-mainz.de
X-WR-CALDESC:Events for Arbeitskreis Börse Studenten der Uni Mainz e.V.
BEGIN:VTIMEZONE
TZID:Europe/Berlin
BEGIN:DAYLIGHT
TZOFFSETFROM:+0100
TZOFFSETTO:+0200
TZNAME:CEST
DTSTART:20210328T010000
END:DAYLIGHT
BEGIN:STANDARD
TZOFFSETFROM:+0200
TZOFFSETTO:+0100
TZNAME:CET
DTSTART:20211031T010000
END:STANDARD
END:VTIMEZONE
BEGIN:VEVENT
DTSTART;TZID=Europe/Berlin:20211103T180000
DTEND;TZID=Europe/Berlin:20211103T200000
DTSTAMP:20260422T130059
CREATED:20210929T154316Z
LAST-MODIFIED:20211101T165844Z
UID:2130-1635962400-1635969600@akb-mainz.de
SUMMARY:AKB Aktientalk
DESCRIPTION:Am Mittwoch\, den 3. November findet der AKB Aktientalk digital über Zoom statt. Hier besprechen wir den Stand des Wikifolios und mögliche neue Positionen. Des Weiteren ist eine Zusammenkunft in lockerer Runde geplant. Im Rahmen des Aktientalks besteht für jedes Mitglied des AKB die Möglichkeit über einen Lieferandogutschein (Takeaway Pay) ein Abendessen für die Veranstaltung zu bestellen. Damit ihr an der Veranstaltung teilnehmen könnt\, bitten wir euch hier anzumelden. Update: Die Anmeldung ist nun geschlossen.
URL:https://akb-mainz.de/event/akb-aktientalk-2/
END:VEVENT
END:VCALENDAR