BEGIN:VCALENDAR
VERSION:2.0
PRODID:-//Arbeitskreis Börse Studenten der Uni Mainz e.V. - ECPv5.9.2//NONSGML v1.0//EN
CALSCALE:GREGORIAN
METHOD:PUBLISH
X-WR-CALNAME:Arbeitskreis Börse Studenten der Uni Mainz e.V.
X-ORIGINAL-URL:https://akb-mainz.de
X-WR-CALDESC:Events for Arbeitskreis Börse Studenten der Uni Mainz e.V.
BEGIN:VTIMEZONE
TZID:Europe/Berlin
BEGIN:DAYLIGHT
TZOFFSETFROM:+0100
TZOFFSETTO:+0200
TZNAME:CEST
DTSTART:20210328T010000
END:DAYLIGHT
BEGIN:STANDARD
TZOFFSETFROM:+0200
TZOFFSETTO:+0100
TZNAME:CET
DTSTART:20211031T010000
END:STANDARD
END:VTIMEZONE
BEGIN:VEVENT
DTSTART;TZID=Europe/Berlin:20211014T090000
DTEND;TZID=Europe/Berlin:20211014T100000
DTSTAMP:20260422T113657
CREATED:20210929T151824Z
LAST-MODIFIED:20210929T151824Z
UID:2124-1634202000-1634205600@akb-mainz.de
SUMMARY:Kurzvorstellung AKB
DESCRIPTION:Am Donnerstag den 14. Oktober findet im Zuge einer Erst-Semesterveranstaltung im RW1 eine Kurzvorstellung des Arbeitskreis Börse Mainz statt.
URL:https://akb-mainz.de/event/kurzvorstellung-akb/
LOCATION:RW1\, Haus Recht und Wirtschaft I\, Mainz\, Rheinland-Pfalz\, 55099\, Deutschland
END:VEVENT
BEGIN:VEVENT
DTSTART;TZID=Europe/Berlin:20211027T181500
DTEND;TZID=Europe/Berlin:20211027T190000
DTSTAMP:20260422T113657
CREATED:20210929T152654Z
LAST-MODIFIED:20210929T152654Z
UID:2128-1635358500-1635361200@akb-mainz.de
SUMMARY:Große Vorstellung AKB Mainz - digitale Hochschulgruppenmesse
DESCRIPTION:Am Mittwoch\, den 27. Oktober findet im Rahmen der digitalen Hochschulgruppenmesse eine Vorstellung des Arbeitskreis Börse Mainz statt. \nDie Veranstaltung wird voraussichtlich über BigBlueButton abgehalten. Der Link zur Teilnahme wird in Kürze veröffentlicht.
URL:https://akb-mainz.de/event/grosse-vorstellung-akb-mainz-digitale-hochschulgruppenmesse/
END:VEVENT
END:VCALENDAR