BEGIN:VCALENDAR
VERSION:2.0
PRODID:-//Arbeitskreis Börse Studenten der Uni Mainz e.V. - ECPv5.9.2//NONSGML v1.0//EN
CALSCALE:GREGORIAN
METHOD:PUBLISH
X-WR-CALNAME:Arbeitskreis Börse Studenten der Uni Mainz e.V.
X-ORIGINAL-URL:https://akb-mainz.de
X-WR-CALDESC:Events for Arbeitskreis Börse Studenten der Uni Mainz e.V.
BEGIN:VTIMEZONE
TZID:Europe/Berlin
BEGIN:DAYLIGHT
TZOFFSETFROM:+0100
TZOFFSETTO:+0200
TZNAME:CEST
DTSTART:20230326T010000
END:DAYLIGHT
BEGIN:STANDARD
TZOFFSETFROM:+0200
TZOFFSETTO:+0100
TZNAME:CET
DTSTART:20231029T010000
END:STANDARD
END:VTIMEZONE
BEGIN:VEVENT
DTSTART;TZID=Europe/Berlin:20231103T180000
DTEND;TZID=Europe/Berlin:20231103T220000
DTSTAMP:20260422T175725
CREATED:20231019T145003Z
LAST-MODIFIED:20231019T145003Z
UID:2664-1699034400-1699048800@akb-mainz.de
SUMMARY:Sektempfang
DESCRIPTION:Am Freitag\, den 03. November 2023 veranstaltet der AKB einen Sektempfang. Ab 18:00 Uhr sind alle Interessierten eingeladen\, im RW4 (Neues ReWi) der Universität Mainz vorbeizuschauen. Wir freuen uns auf einen entspannten Austausch mit Euch über Börsen – und Kapitalmarktthemen. \nEs ist keine Voranmeldung nötig\, kommt daher gerne einfach vorbei.\nWir freuen uns auf euch!
URL:https://akb-mainz.de/event/sektempfang-2/
LOCATION:Haus Recht und Wirtschaft\, RW 4
END:VEVENT
END:VCALENDAR