BEGIN:VCALENDAR
VERSION:2.0
PRODID:-//Arbeitskreis Börse Studenten der Uni Mainz e.V. - ECPv5.9.2//NONSGML v1.0//EN
CALSCALE:GREGORIAN
METHOD:PUBLISH
X-WR-CALNAME:Arbeitskreis Börse Studenten der Uni Mainz e.V.
X-ORIGINAL-URL:https://akb-mainz.de
X-WR-CALDESC:Events for Arbeitskreis Börse Studenten der Uni Mainz e.V.
BEGIN:VTIMEZONE
TZID:Europe/Berlin
BEGIN:DAYLIGHT
TZOFFSETFROM:+0100
TZOFFSETTO:+0200
TZNAME:CEST
DTSTART:20230326T010000
END:DAYLIGHT
BEGIN:STANDARD
TZOFFSETFROM:+0200
TZOFFSETTO:+0100
TZNAME:CET
DTSTART:20231029T010000
END:STANDARD
END:VTIMEZONE
BEGIN:VEVENT
DTSTART;TZID=Europe/Berlin:20231031T140000
DTEND;TZID=Europe/Berlin:20231031T180000
DTSTAMP:20260422T175648
CREATED:20230923T125650Z
LAST-MODIFIED:20230930T074208Z
UID:2617-1698760800-1698775200@akb-mainz.de
SUMMARY:DZ Bank - Equity Research
DESCRIPTION:Die DZ Bank lädt uns herzlich nach Frankfurt ein um ihre Aktien Research Abteilung (Equity Research) vorzustellen. \nWie analysiert eine Großbank Aktien auf der institutionellen Seite und wer nutzt schlussendlich dieses Research?\nDiese und weitere Fragen wird die DZ Bank uns beantworten.\nSeid auf einen sehr spannenden Vortrag gespannt?
URL:https://akb-mainz.de/event/dz-bank-equity-research/
LOCATION:DZ Tower\, Platz der Republik\, Eingang City House 2\, 60325 Frankfurt am Main\, Hessen\, Deutschland
END:VEVENT
END:VCALENDAR