BEGIN:VCALENDAR
VERSION:2.0
PRODID:-//Arbeitskreis Börse Studenten der Uni Mainz e.V. - ECPv5.9.2//NONSGML v1.0//EN
CALSCALE:GREGORIAN
METHOD:PUBLISH
X-WR-CALNAME:Arbeitskreis Börse Studenten der Uni Mainz e.V.
X-ORIGINAL-URL:https://akb-mainz.de
X-WR-CALDESC:Events for Arbeitskreis Börse Studenten der Uni Mainz e.V.
BEGIN:VTIMEZONE
TZID:Europe/Berlin
BEGIN:DAYLIGHT
TZOFFSETFROM:+0100
TZOFFSETTO:+0200
TZNAME:CEST
DTSTART:20230326T010000
END:DAYLIGHT
BEGIN:STANDARD
TZOFFSETFROM:+0200
TZOFFSETTO:+0100
TZNAME:CET
DTSTART:20231029T010000
END:STANDARD
END:VTIMEZONE
BEGIN:VEVENT
DTSTART;TZID=Europe/Berlin:20230602T140000
DTEND;TZID=Europe/Berlin:20230602T170000
DTSTAMP:20260422T164428
CREATED:20230512T140820Z
LAST-MODIFIED:20230512T140820Z
UID:2605-1685714400-1685725200@akb-mainz.de
SUMMARY:Vortrag & Workshop mit LBBW
DESCRIPTION:Am 02.06. um 14 Uhr werden wir die LBBW Mainz besuchen. \nMehr Infos & den Link zur Anmeldung findet Ihr auf Instagram (@akb_mainz) sowie in Kürze per Mail!
URL:https://akb-mainz.de/event/vortrag-workshop-mit-lbbw/
LOCATION:LBBW Mainz
CATEGORIES:Exkursion,Praxisvortrag,Workshop
END:VEVENT
END:VCALENDAR