BEGIN:VCALENDAR
VERSION:2.0
PRODID:-//Arbeitskreis Börse Studenten der Uni Mainz e.V. - ECPv5.9.2//NONSGML v1.0//EN
CALSCALE:GREGORIAN
METHOD:PUBLISH
X-WR-CALNAME:Arbeitskreis Börse Studenten der Uni Mainz e.V.
X-ORIGINAL-URL:https://akb-mainz.de
X-WR-CALDESC:Events for Arbeitskreis Börse Studenten der Uni Mainz e.V.
BEGIN:VTIMEZONE
TZID:Europe/Berlin
BEGIN:DAYLIGHT
TZOFFSETFROM:+0100
TZOFFSETTO:+0200
TZNAME:CEST
DTSTART:20220327T010000
END:DAYLIGHT
BEGIN:STANDARD
TZOFFSETFROM:+0200
TZOFFSETTO:+0100
TZNAME:CET
DTSTART:20221030T010000
END:STANDARD
END:VTIMEZONE
BEGIN:VEVENT
DTSTART;TZID=Europe/Berlin:20220309T180000
DTEND;TZID=Europe/Berlin:20220309T220000
DTSTAMP:20260422T175740
CREATED:20220227T231942Z
LAST-MODIFIED:20220227T231942Z
UID:2361-1646848800-1646863200@akb-mainz.de
SUMMARY:AKB Investmentstammtisch
DESCRIPTION:Am Mittwoch\, den 09. März 2022 findet um 18 Uhr nach coronabedingter Pause wieder ein AKB Investmentstammtisch im Baron statt. \nAufgrund der geltenden Kontaktbeschränkungen ist eine Teilnahme nur für genesene oder geimpfte möglich (2G-Regel). \nZur besseren Vorbereitung der Veranstaltung bitten wir hier um kurze Anmeldung. \nWir freuen uns auf euch!
URL:https://akb-mainz.de/event/akb-investmentstammtisch/
END:VEVENT
END:VCALENDAR