BEGIN:VCALENDAR
VERSION:2.0
PRODID:-//Arbeitskreis Börse Studenten der Uni Mainz e.V. - ECPv5.9.2//NONSGML v1.0//EN
CALSCALE:GREGORIAN
METHOD:PUBLISH
X-WR-CALNAME:Arbeitskreis Börse Studenten der Uni Mainz e.V.
X-ORIGINAL-URL:https://akb-mainz.de
X-WR-CALDESC:Veranstaltungen für Arbeitskreis Börse Studenten der Uni Mainz e.V.
BEGIN:VTIMEZONE
TZID:Europe/Berlin
BEGIN:DAYLIGHT
TZOFFSETFROM:+0100
TZOFFSETTO:+0200
TZNAME:CEST
DTSTART:20220327T010000
END:DAYLIGHT
BEGIN:STANDARD
TZOFFSETFROM:+0200
TZOFFSETTO:+0100
TZNAME:CET
DTSTART:20221030T010000
END:STANDARD
END:VTIMEZONE
BEGIN:VEVENT
DTSTART;TZID=Europe/Berlin:20221216T180000
DTEND;TZID=Europe/Berlin:20221216T220000
DTSTAMP:20260421T123633
CREATED:20221207T161057Z
LAST-MODIFIED:20221207T161225Z
UID:2461-1671213600-1671228000@akb-mainz.de
SUMMARY:Weihnachtsfeier
DESCRIPTION:Am 16.12.2022 um 18 Uhr findet unsere AKB-Weihnachtsfeier statt. Leider konnte die Weihnachtsfeier in den letzten Jahren coronabedingt nicht stattfinden. Daher freuen wir uns sehr\, euch dieses Jahr wieder einladen zu können. Die Veranstaltung ist nur für Mitglieder und ohne Anmeldung ist eine Teilnahme aus organisatorischen Gründen leider nicht möglich. Die Anmeldung wird euch per E-Mail zugeschickt. \nWir freuen uns auf Euch! \nRaum: Kasematten des ReWi (Wenn man die Treppen des ReWi runterläuft gegenüber von den Toiletten)
URL:https://akb-mainz.de/event/weihnachtsfeier/
LOCATION:Kasematten im ReWi\, Deutschland
END:VEVENT
END:VCALENDAR