BEGIN:VCALENDAR
VERSION:2.0
PRODID:-//Arbeitskreis Börse Studenten der Uni Mainz e.V. - ECPv5.9.2//NONSGML v1.0//EN
CALSCALE:GREGORIAN
METHOD:PUBLISH
X-WR-CALNAME:Arbeitskreis Börse Studenten der Uni Mainz e.V.
X-ORIGINAL-URL:https://akb-mainz.de
X-WR-CALDESC:Veranstaltungen für Arbeitskreis Börse Studenten der Uni Mainz e.V.
BEGIN:VTIMEZONE
TZID:Europe/Berlin
BEGIN:DAYLIGHT
TZOFFSETFROM:+0100
TZOFFSETTO:+0200
TZNAME:CEST
DTSTART:20230326T010000
END:DAYLIGHT
BEGIN:STANDARD
TZOFFSETFROM:+0200
TZOFFSETTO:+0100
TZNAME:CET
DTSTART:20231029T010000
END:STANDARD
END:VTIMEZONE
BEGIN:VEVENT
DTSTART;TZID=Europe/Berlin:20231214T183000
DTEND;TZID=Europe/Berlin:20231214T213000
DTSTAMP:20260419T192225
CREATED:20231106T191201Z
LAST-MODIFIED:20231117T131548Z
UID:2683-1702578600-1702589400@akb-mainz.de
SUMMARY:Vortrag zum Thema "Künstliche Intelligenz"
DESCRIPTION:Am 14.12.2023 findet ein Vortrag mit Allianz Global Investors zum Thema Künstliche Intelligenz statt. Gleichzeitig habt Ihr die Möglichkeit Euch mit Allianz Global Investors zusammen auszutauschen. Mehr Infos & den Link zur Anmeldung findet Ihr auf Instagram (@akb_mainz) sowie in Kürze per Mail!
URL:https://akb-mainz.de/event/vortrag-zum-thema-kuenstliche-intelligenz/
LOCATION:Johannes Gutenberg-Universität Mainz\, 55128
END:VEVENT
END:VCALENDAR