BEGIN:VCALENDAR
VERSION:2.0
PRODID:-//Arbeitskreis Börse Studenten der Uni Mainz e.V. - ECPv5.9.2//NONSGML v1.0//EN
CALSCALE:GREGORIAN
METHOD:PUBLISH
X-WR-CALNAME:Arbeitskreis Börse Studenten der Uni Mainz e.V.
X-ORIGINAL-URL:https://akb-mainz.de
X-WR-CALDESC:Veranstaltungen für Arbeitskreis Börse Studenten der Uni Mainz e.V.
BEGIN:VTIMEZONE
TZID:Europe/Berlin
BEGIN:DAYLIGHT
TZOFFSETFROM:+0100
TZOFFSETTO:+0200
TZNAME:CEST
DTSTART:20220327T010000
END:DAYLIGHT
BEGIN:STANDARD
TZOFFSETFROM:+0200
TZOFFSETTO:+0100
TZNAME:CET
DTSTART:20221030T010000
END:STANDARD
END:VTIMEZONE
BEGIN:VEVENT
DTSTART;TZID=Europe/Berlin:20220715T180000
DTEND;TZID=Europe/Berlin:20220715T233000
DTSTAMP:20260420T232124
CREATED:20220703T200557Z
LAST-MODIFIED:20220703T200557Z
UID:2377-1657908000-1657927800@akb-mainz.de
SUMMARY:Kneipentour
DESCRIPTION:Am Freitag\, den 15. Juli findet die AKB-Kneipentour durch die Mainzer Innenstadt statt. Der Abend startet um 18:00 Uhr vor dem Mainzer Staatstheater\, von wo aus wir uns zusammen in die erste Bar begeben werden. Wir haben einen entspannten Abend geplant\, indem es einen lockeren Austausch über Börsen – und Kapitalmarktthemen geben soll. \nWir freuen uns auf euer zahlreiches Erscheinen!
URL:https://akb-mainz.de/event/kneipentour/
END:VEVENT
END:VCALENDAR