BEGIN:VCALENDAR
VERSION:2.0
PRODID:-//Arbeitskreis Börse Studenten der Uni Mainz e.V. - ECPv5.9.2//NONSGML v1.0//EN
CALSCALE:GREGORIAN
METHOD:PUBLISH
X-WR-CALNAME:Arbeitskreis Börse Studenten der Uni Mainz e.V.
X-ORIGINAL-URL:https://akb-mainz.de
X-WR-CALDESC:Veranstaltungen für Arbeitskreis Börse Studenten der Uni Mainz e.V.
BEGIN:VTIMEZONE
TZID:Europe/Berlin
BEGIN:DAYLIGHT
TZOFFSETFROM:+0100
TZOFFSETTO:+0200
TZNAME:CEST
DTSTART:20210328T010000
END:DAYLIGHT
BEGIN:STANDARD
TZOFFSETFROM:+0200
TZOFFSETTO:+0100
TZNAME:CET
DTSTART:20211031T010000
END:STANDARD
END:VTIMEZONE
BEGIN:VEVENT
DTSTART;TZID=Europe/Berlin:20211208T180000
DTEND;TZID=Europe/Berlin:20211208T200000
DTSTAMP:20260420T205718
CREATED:20211117T213805Z
LAST-MODIFIED:20211202T224029Z
UID:2344-1638986400-1638993600@akb-mainz.de
SUMMARY:Get-together auf dem Weinachtsmarkt
DESCRIPTION:Am Mittwoch\, den 8. Dezember findet ein Get-together auf dem Mainzer Weihnachtsmarkt statt. Wir treffen uns um 18 Uhr am Haupteingang des Weihnachtsmarkts an der Bushaltestelle Höfchen/Listmann. \nFalls du mit dabei sein möchtest\, melde dich bitte hier an. \nAnmerkung: Die Teilnahme ist nur mit Impf- oder Genesungszertifikat möglich (2G Regel)
URL:https://akb-mainz.de/event/akb-aktientalk-3/
END:VEVENT
END:VCALENDAR